BEGIN:VCALENDAR
VERSION:2.0
PRODID:-//hacksw/handcal//NONSGML v1.0//EN
BEGIN:VEVENT
SUMMARY:Pique nique Saison 2026
UID:fbb7b622-fb46-4fc3-a652-16e1ad45376b
DTSTART:20260630T163000Z
DTEND:20260630T190000Z
LOCATION:Localisation   
CATEGORIES:Festif
STATUS:
DESCRIPTION:<p>Pique nique de fin de saison</p>
 
 <p>Tout le monde est
 invite avec ses couverts</p>
 
 <p>Le club vous invite pour un pique
 nique en plein air</p>
 
 <p>Libre a chacun d'amener en supplement des
 gateaux ou quelques specialites</p>
URL;VALUE=URI:https://carquefouac.sportsregions.fr/evenements/2026/06/30/pique-nique-saison-2026-2442656
END:VEVENT
END:VCALENDAR
